Workbook

Sheet зведена на 25.08.2026
A1: тень
A3: Акт списання використаних медикаментів, матеріалів та інших засобів по Комунальному некомерційному товариству "Коломийський районний центр первинної медико-санітарної допомоги Коломийської районної ради"
A4: станом на 25.08.2026 року отриманих в централізованому порядку за рахунок коштів державного бюджету по програмі "Імунопрофілактика".
G5: СЕРПЕНЬ
A6: №п/п | B6: Торгівельна назва згідно розхідної накладної ІФОДКЛ | C6: № та дата розхідної накладної ІФОДКЛ | D6: Серія | E6: Один. Вим. | F6: Ціна | G6: Залишок на початок зв.періоду | I6: Прихід | K6: Розхід | M6: Залишок на кінець зв.періоду
G7: к-сть | H7: сума | I7: к-сть | J7: сума | K7: к-сть | L7: сума | M7: к-сть | N7: сума
A8: 7 | B8: Шприци з голками(різного обсягу)Syr Mini 0,1 ml 27G3/8 №100 | C8: №131 від 18.12.2023 | D8: 2206457 | E8: шт | F8: 1.46 | G8: 50 | H8: =G8*F8 -> 73 | J8: =I8*F8 -> 0 | K8: =G8+I8-M8 -> 0 | L8: =K8*F8 -> 0 | M8: =[1]Отинія!M9+[1]Коршів!M9+[1]ЛХлібичин!M9+[1]Виноград!M9+[1]Струпків!M9+[1]Сопів!M9+[1]Княждвір!M9+[1]Печеніжин!M9+[1]центр!M9+[1]Пядики!M9+[1]ВКамянка!M9+[1]Турка!M9+[1]Підгайчики!M9+[1]Гвіздець!M9+[1]Кулачківці!M9 -> 50 | N8: =M8*F8 -> 73
A9: 9 | B9: Вакцина кон'югована для профілактики захворювань, збудником яких є HAEMOPFILUS INFLUENZAE | C9: №329 від 14.06.2024 | D9: 1143М005 | E9: доз | F9: 165.97 | G9: 6 | H9: =G9*F9 -> 995.82 | J9: =I9*F9 -> 0 | K9: =G9+I9-M9 -> 6 | L9: =K9*F9 -> 995.82 | M9: =[1]Отинія!M11+[1]Коршів!M11+[1]ЛХлібичин!M11+[1]Виноград!M11+[1]Струпків!M11+[1]Сопів!M11+[1]Княждвір!M11+[1]Печеніжин!M11+[1]центр!M11+[1]Пядики!M11+[1]ВКамянка!M11+[1]Турка!M11+[1]Підгайчики!M11+[1]Гвіздець!M11+[1]Кулачківці!M11 -> 0 | N9: =M9*F9 -> 0
A10: 28 | B10: Вакцина DIFTET для профілактики дифтерії та правця адсорбована 5,0 мл 10 доз | C10: №162 від 16.01.2025 | D10: С2161 | E10: флакон | F10: 87.97111 | G10: 2 | H10: =G10*F10 -> 175.94222 | J10: =I10*F10 -> 0 | K10: =G10+I10-M10 -> 0 | L10: =K10*F10 -> 0 | M10: =[1]Отинія!M30+[1]Коршів!M30+[1]ЛХлібичин!M30+[1]Виноград!M30+[1]Струпків!M30+[1]Сопів!M30+[1]Княждвір!M30+[1]Печеніжин!M30+[1]центр!M30+[1]Пядики!M30+[1]ВКамянка!M30+[1]Турка!M30+[1]Підгайчики!M30+[1]Гвіздець!M30+[1]Кулачківці!M30 -> 2 | N10: =M10*F10 -> 175.94222
A11: 29 | B11: Комбінована вакцина S/ 359241 DTP-HeB-Hib fully liquid vaccine, 1 dose vial.Diphtheria, tetanus,pertussis, hepaticis B | C11: №555 від 13.03.2025 | D11: 2854Х035С | E11: флакон | F11: 53.73931 | G11: 20 | H11: =G11*F11 -> 1074.7862 | J11: =I11*F11 -> 0 | K11: =G11+I11-M11 -> 2 | L11: =K11*F11 -> 107.47862 | M11: =[1]Отинія!M31+[1]Коршів!M31+[1]ЛХлібичин!M31+[1]Виноград!M31+[1]Струпків!M31+[1]Сопів!M31+[1]Княждвір!M31+[1]Печеніжин!M31+[1]центр!M31+[1]Пядики!M31+[1]ВКамянка!M31+[1]Турка!M31+[1]Підгайчики!M31+[1]Гвіздець!M31+[1]Кулачківці!M31 -> 18 | N11: =M11*F11 -> 967.30758
A12: 33 | B12: Вакцина кон'югована для профілактики захворювань, збудником яких є HAEMOPFILUS INFLUENZAE типу В, ліофілізіат для розчину для ін'єкцій по 1 доз у фл. У компл.з розч.(натрію хлорид) | C12: №996 від 09.05.2025 | D12: 1143М006 | E12: доз | F12: 165.97 | G12: 1 | H12: =G12*F12 -> 165.97 | J12: =I12*F12 -> 0 | K12: =G12+I12-M12 -> 1 | L12: =K12*F12 -> 165.97 | M12: =[1]Отинія!M35+[1]Коршів!M35+[1]ЛХлібичин!M35+[1]Виноград!M35+[1]Струпків!M35+[1]Сопів!M35+[1]Княждвір!M35+[1]Печеніжин!M35+[1]центр!M35+[1]Пядики!M35+[1]ВКамянка!M35+[1]Турка!M35+[1]Підгайчики!M35+[1]Гвіздець!M35+[1]Кулачківці!M35 -> 0 | N12: =M12*F12 -> 0
A13: 34 | B13: Вакцина проти гепатиту В/Hepatitis B Vaccine DNA Recombinant, 1 dose vial Pediatric dose With Vaccine Vial Monitor (VVM), 0,5мл | C13: №1294 від 16.06.2025 | D13: 0325Q001А | E13: флакон | F13: 22.809 | G13: 10 | H13: =G13*F13 -> 228.09 | J13: =I13*F13 -> 0 | K13: =G13+I13-M13 -> 5 | L13: =K13*F13 -> 114.045 | M13: =[1]Отинія!M36+[1]Коршів!M36+[1]ЛХлібичин!M36+[1]Виноград!M36+[1]Струпків!M36+[1]Сопів!M36+[1]Княждвір!M36+[1]Печеніжин!M36+[1]центр!M36+[1]Пядики!M36+[1]ВКамянка!M36+[1]Турка!M36+[1]Підгайчики!M36+[1]Гвіздець!M36+[1]Кулачківці!M36 -> 5 | N13: =M13*F13 -> 114.045
A14: 46 | B14: Вакцина проти правця та дифтерії 10доз/Td VACCINE(2024)Adsorbed Tetanus and Diphtheria vaccine Adult dose vial of 10 doses With Vaccine Vial Monitor(YVM) 5мл АДП-М | C14: №2305 від 17.09.25 | D14: 222600825А | E14: флакон | F14: 53.78344 | G14: 1 | H14: =G14*F14 -> 53.78344 | J14: =I14*F14 -> 0 | K14: =G14+I14-M14 -> 1 | L14: =K14*F14 -> 53.78344 | M14: =[1]Отинія!M48+[1]Коршів!M48+[1]ЛХлібичин!M48+[1]Виноград!M48+[1]Струпків!M48+[1]Сопів!M48+[1]Княждвір!M48+[1]Печеніжин!M48+[1]центр!M48+[1]Пядики!M48+[1]ВКамянка!M48+[1]Турка!M48+[1]Підгайчики!M48+[1]Гвіздець!M48+[1]Кулачківці!M48 -> 0 | N14: =M14*F14 -> 0
A15: 47 | B15: Вакцина для профілактики гемофільної інфекції типу В(ХІБ з розчинником / НІВ) | C15: №2305 від 17.09.25 | D15: 1143М009 | E15: флакон | F15: 93.26251 | G15: 16 | H15: =G15*F15 -> 1492.2002 | J15: =I15*F15 -> 0 | K15: =G15+I15-M15 -> 2 | L15: =K15*F15 -> 186.52502 | M15: =[1]Отинія!M49+[1]Коршів!M49+[1]ЛХлібичин!M49+[1]Виноград!M49+[1]Струпків!M49+[1]Сопів!M49+[1]Княждвір!M49+[1]Печеніжин!M49+[1]центр!M49+[1]Пядики!M49+[1]ВКамянка!M49+[1]Турка!M49+[1]Підгайчики!M49+[1]Гвіздець!M49+[1]Кулачківці!M49 -> 14 | N15: =M15*F15 -> 1305.6751
A16: 55 | B16: Вакцина для профілактики гемофільної інфекції типу В(ХІБ з розчинником / НІВ) | C16: №2468 від 10.10.25 | D16: 1143М009 | E16: флакон | F16: 93.26222 | G16: 12 | H16: =G16*F16 -> 1119.1466 | J16: =I16*F16 -> 0 | K16: =G16+I16-M16 -> 0 | L16: =K16*F16 -> 0 | M16: =[1]Отинія!M57+[1]Коршів!M57+[1]ЛХлібичин!M57+[1]Виноград!M57+[1]Струпків!M57+[1]Сопів!M57+[1]Княждвір!M57+[1]Печеніжин!M57+[1]центр!M57+[1]Пядики!M57+[1]ВКамянка!M57+[1]Турка!M57+[1]Підгайчики!M57+[1]Гвіздець!M57+[1]Кулачківці!M57 -> 12 | N16: =M16*F16 -> 1119.1466
A17: 61 | B17: Вакцина для профілактики гемофільної інфекції типу В(ХІБ з розчинником / НІВ)VACCINE I DOSE VIAL, LYOPHILIZED HAEMOPHILUS TYPE B CONJUGATE STANDALONE VACCINE SINGLE DOSE VIALS. WITH DILUENT, BATCH 1143M009 0,5МЛ | C17: №2684 від 21.11.25 | D17: 1143М009 | E17: флакон | F17: 93.26267 | G17: 8 | H17: =G17*F17 -> 746.10136 | J17: =I17*F17 -> 0 | K17: =G17+I17-M17 -> 0 | L17: =K17*F17 -> 0 | M17: =[1]Коршів!M63+[1]Отинія!M63+[1]ЛХлібичин!M63+[1]Струпків!M63+[1]Турка!M63+[1]Виноград!M63+[1]Сопів!M63+[1]Княждвір!M63+[1]Печеніжин!M63+[1]центр!M63+[1]Пядики!M63+[1]ВКамянка!M63+[1]Підгайчики!M63+[1]Гвіздець!M63+[1]Кулачківці!M63 -> 8 | N17: =M17*F17 -> 746.10136
A18: 62 | B18: Вакцина проти гепатиту В (рДНК)/Hepatitis B Vaccine DNA Recombinant, 1 dose vial Pediatric dose With Vaccine Vial Monitor (VVM),Batch 0325Q012A, 0,5мл | C18: №2684 від 21.11.25 | D18: 0325Q012А | E18: флакон | F18: 22.7237 | G18: 5 | H18: =G18*F18 -> 113.6185 | J18: =I18*F18 -> 0 | K18: =G18+I18-M18 -> 0 | L18: =K18*F18 -> 0 | M18: =[1]Коршів!M64+[1]Отинія!M64+[1]ЛХлібичин!M64+[1]Струпків!M64+[1]Турка!M64+[1]Виноград!M64+[1]Сопів!M64+[1]Княждвір!M64+[1]Печеніжин!M64+[1]центр!M64+[1]Пядики!M64+[1]ВКамянка!M64+[1]Підгайчики!M64+[1]Гвіздець!M64+[1]Кулачківці!M64 -> 5 | N18: =M18*F18 -> 113.6185
A19: 63 | B19: Захисні ящики для використаних шприців та голок / Safety box f.used syrgs/ndls 5L., №25 | C19: №2684 від 21.11.25 | D19: S0782208 | E19: шт | F19: 27.24252 | G19: 31 | H19: =G19*F19 -> 844.51812 | J19: =I19*F19 -> 0 | K19: =G19+I19-M19 -> 7 | L19: =K19*F19 -> 190.69764 | M19: =[1]Коршів!M65+[1]Отинія!M65+[1]ЛХлібичин!M65+[1]Струпків!M65+[1]Турка!M65+[1]Виноград!M65+[1]Сопів!M65+[1]Княждвір!M65+[1]Печеніжин!M65+[1]центр!M65+[1]Пядики!M65+[1]ВКамянка!M65+[1]Підгайчики!M65+[1]Гвіздець!M65+[1]Кулачківці!M65 -> 24 | N19: =M19*F19 -> 653.82048
A20: 65 | B20: ГАРДАСИЛ, 9 ВАКЦИНА ПРОТИ ВІРУСУ ПАПІЛОМИ ЛЮДИНИ. 9 ВАЛЕНТНА(РЕКОМБІНАНТНА, АДСОРБОВАНА) субсензія для ін'єкцій, по 0,5 мл(1доза), по 0,5мл супсензії у попередньо наповненому шприці (скло) з обмежувачем ходупоршня. | C20: №7 від 12.01.2026 | D20: Z012589 | E20: доз | F20: 5200 | G20: 5 | H20: =G20*F20 -> 26000 | J20: =I20*F20 -> 0 | K20: =G20+I20-M20 -> 5 | L20: =K20*F20 -> 26000 | M20: =[1]Коршів!M67+[1]Отинія!M67+[1]ЛХлібичин!M67+[1]Струпків!M67+[1]Турка!M67+[1]Виноград!M67+[1]Сопів!M67+[1]Княждвір!M67+[1]Печеніжин!M67+[1]центр!M67+[1]Пядики!M67+[1]ВКамянка!M67+[1]Підгайчики!M67+[1]Гвіздець!M67+[1]Кулачківці!M67 -> 0 | N20: =M20*F20 -> 0
A21: 66 | B21: ТЕТАДІФ/TETADIF сусп.д/ін, 1 доза/0,5мл, флакони по 5 мл(10доз)по 10 фл в кор. | C21: №144 від 02.02.2026 №510 від 13.03.2026 №734 від 23.04.2026 №1025 від04.06.2026 | D21: D2815 | F21: 63 | G21: 414 | H21: =G21*F21 -> 26082 | J21: =I21*F21 -> 0 | K21: =G21+I21-M21 -> 200 | L21: =K21*F21 -> 12600 | M21: =[1]Коршів!M68+[1]Отинія!M68+[1]ЛХлібичин!M68+[1]Струпків!M68+[1]Турка!M68+[1]Виноград!M68+[1]Сопів!M68+[1]Княждвір!M68+[1]Печеніжин!M68+[1]центр!M68+[1]Пядики!M68+[1]ВКамянка!M68+[1]Підгайчики!M68+[1]Гвіздець!M68+[1]Кулачківці!M68 -> 214 | N21: =M21*F21 -> 13482
A22: 67 | B22: Вакцина для профілактики гемофільної інфекції типу В(ХІБ) з розчинником / HIB VACCINE 1 DOSE VIAL, LYOPHILIZED HAEMOPHILUS TYPE B CONJUGATE STANDALONE VACCINE SINGLE DOSE VIALS, WITH VVM DILUENT, BATCH / Серія : 1143М009 т.пр. 30.11.2026р. СЕРУМ ІНСТИТУТ ІНДІЇ. ПВТ. ЛТД, Індія | C22: №250 від 09.02.2026 | D22: 1143М009 | E22: доз | F22: 93.26233 | G22: 16 | H22: =G22*F22 -> 1492.1973 | I22: 0 | J22: =I22*F22 -> 0 | K22: =G22+I22-M22 -> 5 | L22: =K22*F22 -> 466.31165 | M22: =[1]Коршів!M69+[1]Отинія!M69+[1]ЛХлібичин!M69+[1]Струпків!M69+[1]Турка!M69+[1]Виноград!M69+[1]Сопів!M69+[1]Княждвір!M69+[1]Печеніжин!M69+[1]центр!M69+[1]Пядики!M69+[1]ВКамянка!M69+[1]Підгайчики!M69+[1]Гвіздець!M69+[1]Кулачківці!M69 -> 11 | N22: =M22*F22 -> 1025.8856
A23: 68 | B23: Вакцина комбінована проти дифтерії,правця та кашлюку-гепатиту В(рекомбінованого) , Haemophilus influenzae типу b (Hib)/ DTP-HepB-Hib fully liquid vaccine, 1 dosevial, pediatric dose Diphtheria, tetanus, pertussis, hepatitis B recombinant and Haemoplhilus influenzae type b (Hib) combined vaccine with Vaccine Vial Mjnitor (VVM)/,0,5 мл.Серія: 2854Х043A т.пр. 31.05.2027р.Виробник: Serum Institute of India Pvt.Ltd,Індія | C23: №250 від 09.02.2026 №511 від 13.03.2026 | D23: 2854Х043A | E23: доз | F23: 53.9122 | G23: 25 | H23: =G23*F23 -> 1347.805 | I23: 0 | J23: =I23*F23 -> 0 | K23: =G23+I23-M23 -> 15 | L23: =K23*F23 -> 808.683 | M23: =[1]Коршів!M70+[1]Отинія!M70+[1]ЛХлібичин!M70+[1]Струпків!M70+[1]Турка!M70+[1]Виноград!M70+[1]Сопів!M70+[1]Княждвір!M70+[1]Печеніжин!M70+[1]центр!M70+[1]Пядики!M70+[1]ВКамянка!M70+[1]Підгайчики!M70+[1]Гвіздець!M70+[1]Кулачківці!M70 -> 10 | N23: =M23*F23 -> 539.122
A24: 69 | B24: ВАКЦИНА ГЕПАТИТУ В (рДНК) / HEPATITIS В VACCINE DNA RECOMBINANT, 1 DOSE VIAL PEDIATRIC DOSE WITH VACCINE VIAL MONITOR (VVM), Batch 0325Q012A 0,5 МЛ. Серія: 0325Q012A т.пр. 31.03.2028р. Виробник: SERUM INSTITUTE OF INDIA. PVT. LTD. ІНДІЯ | C24: №250 від 09.02.2026 | D24: 0325Q012A | E24: доз | F24: 22.72367 | G24: 45 | H24: =G24*F24 -> 1022.5651 | I24: 0 | J24: =I24*F24 -> 0 | K24: =G24+I24-M24 -> 18 | L24: =K24*F24 -> 409.02606 | M24: =[1]Коршів!M71+[1]Отинія!M71+[1]ЛХлібичин!M71+[1]Струпків!M71+[1]Турка!M71+[1]Виноград!M71+[1]Сопів!M71+[1]Княждвір!M71+[1]Печеніжин!M71+[1]центр!M71+[1]Пядики!M71+[1]ВКамянка!M71+[1]Підгайчики!M71+[1]Гвіздець!M71+[1]Кулачківці!M71 -> 27 | N24: =M24*F24 -> 613.53909
A25: 70 | B25: Вакцина проти дифтерії, правця та кашлюку/ DTP VACCINE (2024) Adsorbed Diphteria,Teatannus and Pertussiss vaccine Pediatric dose ,viai of 10 dosses with vaccine Vial Monitor (VVM) , 5мл. | C25: №513 від 13.03.2026 №1027 від 04.06.2026 | D25: 221100525А | E25: флакон | F25: 100.90917 | G25: 8 | H25: =G25*F25 -> 807.27336 | J25: =I25*F25 -> 0 | K25: =G25+I25-M25 -> 2 | L25: =K25*F25 -> 201.81834 | M25: =[1]Коршів!M72+[1]Отинія!M72+[1]ЛХлібичин!M72+[1]Струпків!M72+[1]Турка!M72+[1]Виноград!M72+[1]Сопів!M72+[1]Княждвір!M72+[1]Печеніжин!M72+[1]центр!M72+[1]Пядики!M72+[1]ВКамянка!M72+[1]Підгайчики!M72+[1]Гвіздець!M72+[1]Кулачківці!M72 -> 6 | N25: =M25*F25 -> 605.45502
A26: 71 | B26: Вакцина COMIRNATY від COVID-19 (від 12 років)/ COMIRNATY 0,1 mg/ml 10x2,25ml GVL EU, 2,25ml | C26: №1026 від 04.06.2026 | D26: МН2939 | E26: пакунок | F26: 16787.25 | G26: 0 | H26: =G26*F26 -> 0 | J26: =I26*F26 -> 0 | K26: =G26+I26-M26 -> 0 | L26: =K26*F26 -> 0 | M26: =[1]Коршів!M73+[1]Отинія!M73+[1]ЛХлібичин!M73+[1]Струпків!M73+[1]Турка!M73+[1]Виноград!M73+[1]Сопів!M73+[1]Княждвір!M73+[1]Печеніжин!M73+[1]центр!M73+[1]Пядики!M73+[1]ВКамянка!M73+[1]Підгайчики!M73+[1]Гвіздець!M73+[1]Кулачківці!M73 -> 0 | N26: =M26*F26 -> 0
A27: 72 | B27: Вакцина проти кору,паротиту,краснухи (КПК)/ MMR II 0,5 ML 10x1DOZE VIAL, STERILEDILUENT 10x1DOZE VIAL, Batch Z008627, 0,5 мл | C27: №511 від 13.03.2026 | D27: Z008856 | E27: флакон | F27: 352.2477 | G27: 12 | H27: =G27*F27 -> 4226.9724 | I27: 0 | J27: =I27*F27 -> 0 | K27: =G27+I27-M27 -> 10 | L27: =K27*F27 -> 3522.477 | M27: =[1]Коршів!M74+[1]Отинія!M74+[1]ЛХлібичин!M74+[1]Струпків!M74+[1]Турка!M74+[1]Виноград!M74+[1]Сопів!M74+[1]Княждвір!M74+[1]Печеніжин!M74+[1]центр!M74+[1]Пядики!M74+[1]ВКамянка!M74+[1]Підгайчики!M74+[1]Гвіздець!M74+[1]Кулачківці!M74 -> 2 | N27: =M27*F27 -> 704.4954
A28: 73 | B28: Інактивована поліомієлітна вакцина (ІПВ)/Inactivated Polio Vaccine, 10dose vial (IPV-10) with VVM, 5мл | C28: №511 від 13.03.2026 | D28: 2501002A | E28: флакон | F28: 560.08808 | G28: 0 | H28: =G28*F28 -> 0 | I28: 0 | J28: =I28*F28 -> 0 | K28: =G28+I28-M28 -> 0 | L28: =K28*F28 -> 0 | M28: =[1]Коршів!M75+[1]Отинія!M75+[1]ЛХлібичин!M75+[1]Струпків!M75+[1]Турка!M75+[1]Виноград!M75+[1]Сопів!M75+[1]Княждвір!M75+[1]Печеніжин!M75+[1]центр!M75+[1]Пядики!M75+[1]ВКамянка!M75+[1]Підгайчики!M75+[1]Гвіздець!M75+[1]Кулачківці!M75 -> 0 | N28: =M28*F28 -> 0
A29: 74 | B29: Вакцина для профілактики гемофільної інфекції типу В(ХІБ) з розчинником / HIB VACCINE 1 DOSE VIAL, LYOPHILIZED HAEMOPHILUS TYPE B CONJUGATE STANDALONE VACCINE SINGLE DOSE VIALS, WITH VVM DILUENT, BATCH / Серія : 1143М009 т.пр. 30.11.2026р. СЕРУМ ІНСТИТУТ ІНДІЇ. ПВТ. ЛТД, Індія | C29: №511 від 13.03.2026 | D29: 1143М009 | E29: доз | F29: 93.26255 | G29: 8 | H29: =G29*F29 -> 746.1004 | I29: 0 | J29: =I29*F29 -> 0 | K29: =G29+I29-M29 -> 1 | L29: =K29*F29 -> 93.26255 | M29: =[1]Коршів!M76+[1]Отинія!M76+[1]ЛХлібичин!M76+[1]Струпків!M76+[1]Турка!M76+[1]Виноград!M76+[1]Сопів!M76+[1]Княждвір!M76+[1]Печеніжин!M76+[1]центр!M76+[1]Пядики!M76+[1]ВКамянка!M76+[1]Підгайчики!M76+[1]Гвіздець!M76+[1]Кулачківці!M76 -> 7 | N29: =M29*F29 -> 652.83785
A30: 75 | B30: ВАКЦИНА ГЕПАТИТУ В (рДНК) / HEPATITIS В VACCINE DNA RECOMBINANT, 1 DOSE VIAL PEDIATRIC DOSE WITH VACCINE VIAL MONITOR (VVM), Batch 0325Q012A 0,5 МЛ. Серія: 0325Q012A т.пр. 31.03.2028р. Виробник: SERUM INSTITUTE OF INDIA. PVT. LTD. ІНДІЯ | C30: №511 від 13.03.2026 | D30: 0325Q012A | E30: доз | F30: 22.72359 | G30: 17 | H30: =G30*F30 -> 386.30103 | I30: 0 | J30: =I30*F30 -> 0 | K30: =G30+I30-M30 -> 14 | L30: =K30*F30 -> 318.13026 | M30: =[1]Коршів!M77+[1]Отинія!M77+[1]ЛХлібичин!M77+[1]Струпків!M77+[1]Турка!M77+[1]Виноград!M77+[1]Сопів!M77+[1]Княждвір!M77+[1]Печеніжин!M77+[1]центр!M77+[1]Пядики!M77+[1]ВКамянка!M77+[1]Підгайчики!M77+[1]Гвіздець!M77+[1]Кулачківці!M77 -> 3 | N30: =M30*F30 -> 68.17077
A31: 76 | B31: Вакцина проти дифтерії, правця та кашлюку/ DTP VACCINE (2024) Adsorbed Diphteria,Teatannus and Pertussiss vaccine Pediatric dose ,viai of 10 dosses with vaccine Vial Monitor (VVM) , 5мл. | C31: №739 від 23.04.2026 | D31: 221100525А | E31: флакон | F31: 100.90875 | G31: 2 | H31: =G31*F31 -> 201.8175 | I31: 0 | J31: =I31*F31 -> 0 | K31: =G31+I31-M31 -> 0 | L31: =K31*F31 -> 0 | M31: =[1]Коршів!M78+[1]Отинія!M78+[1]ЛХлібичин!M78+[1]Струпків!M78+[1]Турка!M78+[1]Виноград!M78+[1]Сопів!M78+[1]Княждвір!M78+[1]Печеніжин!M78+[1]центр!M78+[1]Пядики!M78+[1]ВКамянка!M78+[1]Підгайчики!M78+[1]Гвіздець!M78+[1]Кулачківці!M78 -> 2 | N31: =M31*F31 -> 201.8175
A32: 77 | B32: Інактивована поліомієлітна вакцина (ІПВ)/IPV, pack 10dose en generic VVM- A7, 5мл | C32: №739 від 23.04.2026 | D32: 2524001A | E32: флакон | F32: 569.48132 | G32: 3 | H32: =G32*F32 -> 1708.444 | I32: 0 | J32: =I32*F32 -> 0 | K32: =G32+I32-M32 -> 3 | L32: =K32*F32 -> 1708.444 | M32: =[1]Коршів!M79+[1]Отинія!M79+[1]ЛХлібичин!M79+[1]Струпків!M79+[1]Турка!M79+[1]Виноград!M79+[1]Сопів!M79+[1]Княждвір!M79+[1]Печеніжин!M79+[1]центр!M79+[1]Пядики!M79+[1]ВКамянка!M79+[1]Підгайчики!M79+[1]Гвіздець!M79+[1]Кулачківці!M79 -> 0 | N32: =M32*F32 -> 0
A33: 78 | B33: Вакцина DIFTET для профілактики дифтерії та правця адсорбована /DT Vaccine with VVM, 10 dose vials, 5мл | C33: №739 від 23.04.2026 №1027 від 04.06.2026 | D33: С2169 | E33: флакон | F33: 92.0775 | G33: 12 | H33: =G33*F33 -> 1104.93 | J33: =I33*F33 -> 0 | K33: =G33+I33-M33 -> 7 | L33: =K33*F33 -> 644.5425 | M33: =[1]Коршів!M80+[1]Отинія!M80+[1]ЛХлібичин!M80+[1]Струпків!M80+[1]Турка!M80+[1]Виноград!M80+[1]Сопів!M80+[1]Княждвір!M80+[1]Печеніжин!M80+[1]центр!M80+[1]Пядики!M80+[1]ВКамянка!M80+[1]Підгайчики!M80+[1]Гвіздець!M80+[1]Кулачківці!M80 -> 5 | N33: =M33*F33 -> 460.3875
A34: 79 | B34: Вакцина проти кору,паротиту,краснухи (КПК)/ MMR II 0,5 ML 10x1DOZE VIAL, STERILEDILUENT 10x1DOZE VIAL, Batch Z008627, 0,5 мл | C34: №735 від 23.04.2026 | D34: Z008856 | E34: флакон | F34: 351.97624 | G34: 49 | H34: =G34*F34 -> 17246.836 | I34: 0 | J34: =I34*F34 -> 0 | K34: =G34+I34-M34 -> 28 | L34: =K34*F34 -> 9855.3347 | M34: =[1]Коршів!M81+[1]Отинія!M81+[1]ЛХлібичин!M81+[1]Струпків!M81+[1]Турка!M81+[1]Виноград!M81+[1]Сопів!M81+[1]Княждвір!M81+[1]Печеніжин!M81+[1]центр!M81+[1]Пядики!M81+[1]ВКамянка!M81+[1]Підгайчики!M81+[1]Гвіздець!M81+[1]Кулачківці!M81 -> 21 | N34: =M34*F34 -> 7391.501
A35: 80 | B35: Вакцина для профілактики гемофільної інфекції типу В(ХІБ) з розчинником / HIB VACCINE 1 DOSE VIAL, LYOPHILIZED HAEMOPHILUS TYPE B CONJUGATE STANDALONE VACCINE SINGLE DOSE VIALS, WITH VVM DILUENT, BATCH / Серія : 1143М009 т.пр. 30.11.2026р. СЕРУМ ІНСТИТУТ ІНДІЇ. ПВТ. ЛТД, Індія | C35: №735 від 23.04.2026 №1026 від 04.06.2026 | D35: 1143М009 | E35: флакон | F35: 93.26246 | G35: 37 | H35: =G35*F35 -> 3450.711 | J35: =I35*F35 -> 0 | K35: =G35+I35-M35 -> 3 | L35: =K35*F35 -> 279.78738 | M35: =[1]Коршів!M82+[1]Отинія!M82+[1]ЛХлібичин!M82+[1]Струпків!M82+[1]Турка!M82+[1]Виноград!M82+[1]Сопів!M82+[1]Княждвір!M82+[1]Печеніжин!M82+[1]центр!M82+[1]Пядики!M82+[1]ВКамянка!M82+[1]Підгайчики!M82+[1]Гвіздець!M82+[1]Кулачківці!M82 -> 34 | N35: =M35*F35 -> 3170.9236
A36: 81 | B36: ВАКЦИНА ГЕПАТИТУ В (рДНК) / HEPATITIS В VACCINE DNA RECOMBINANT, 1 DOSE VIAL PEDIATRIC DOSE WITH VACCINE VIAL MONITOR (VVM), Batch 0325Q012A 0,5 МЛ. Серія: 0325Q012A т.пр. 31.03.2028р. Виробник: SERUM INSTITUTE OF INDIA. PVT. LTD. ІНДІЯ | C36: №735 від 23.04.2026 №1026 від 04.06.2026 | D36: 0325Q012A | E36: флакони | F36: 22.72373 | G36: 60 | H36: =G36*F36 -> 1363.4238 | J36: =I36*F36 -> 0 | K36: =G36+I36-M36 -> 24 | L36: =K36*F36 -> 545.36952 | M36: =[1]Коршів!M83+[1]Отинія!M83+[1]ЛХлібичин!M83+[1]Струпків!M83+[1]Турка!M83+[1]Виноград!M83+[1]Сопів!M83+[1]Княждвір!M83+[1]Печеніжин!M83+[1]центр!M83+[1]Пядики!M83+[1]ВКамянка!M83+[1]Підгайчики!M83+[1]Гвіздець!M83+[1]Кулачківці!M83 -> 36 | N36: =M36*F36 -> 818.05428
A37: 82 | B37: Вакцина для профілактики дифтерії, правця, кашлюку (з цільноклітинним компонентом), гепатиту В (рДНК) та хвороб збудником яких є Haemophilusinfluenzae типу b конгюгована (адсорбована) /Easyfile TT Vaccine (Each vial of 0,5 ml contains 1 dose) with Vaccine Vial Monitor, Batch E5V015040, 0,5 мл Індія | C37: №739 від 23.04.2026 | D37: E5V015040 | E37: флакони | F37: 47.85175 | G37: 91 | H37: =G37*F37 -> 4354.5093 | J37: =I37*F37 -> 0 | K37: =G37+I37-M37 -> 19 | L37: =K37*F37 -> 909.18325 | M37: =[1]Коршів!M84+[1]Отинія!M84+[1]ЛХлібичин!M84+[1]Струпків!M84+[1]Турка!M84+[1]Виноград!M84+[1]Сопів!M84+[1]Княждвір!M84+[1]Печеніжин!M84+[1]центр!M84+[1]Пядики!M84+[1]ВКамянка!M84+[1]Підгайчики!M84+[1]Гвіздець!M84+[1]Кулачківці!M84 -> 72 | N37: =M37*F37 -> 3445.326
A38: 83 | B38: Тест-система на виявлення інфекції М.tuberculosis/rdESAT-6/rCFP (SILL TIBCY) шкірний тест 10 доз, 1 мл, серія 5565MF001E | C38: №770 від 23.04.2026 | D38: 5665MF001E | E38: шт | F38: 652.3765 | G38: 10 | H38: =G38*F38 -> 6523.765 | I38: 0 | J38: =I38*F38 -> 0 | K38: =G38+I38-M38 -> 0 | L38: =K38*F38 -> 0 | M38: =[1]Коршів!M85+[1]Отинія!M85+[1]ЛХлібичин!M85+[1]Струпків!M85+[1]Турка!M85+[1]Виноград!M85+[1]Сопів!M85+[1]Княждвір!M85+[1]Печеніжин!M85+[1]центр!M85+[1]Пядики!M85+[1]ВКамянка!M85+[1]Підгайчики!M85+[1]Гвіздець!M85+[1]Кулачківці!M85 -> 10 | N38: =M38*F38 -> 6523.765
A39: 84 | B39: Вакцина для профілактики кору,паротиту та краснухи / MMR II 0,5 ML 10x1DOZE VIAL, Batch Z008857, 0,5 мл | C39: №1027 від 04.06.2026 | D39: Z008857 | E39: флакон | F39: 252.5235 | G39: 52 | H39: =G39*F39 -> 13131.222 | J39: =I39*F39 -> 0 | K39: =G39+I39-M39 -> 43 | L39: =K39*F39 -> 10858.511 | M39: =[1]Коршів!M86+[1]Отинія!M86+[1]ЛХлібичин!M86+[1]Струпків!M86+[1]Турка!M86+[1]Виноград!M86+[1]Сопів!M86+[1]Княждвір!M86+[1]Печеніжин!M86+[1]центр!M86+[1]Пядики!M86+[1]ВКамянка!M86+[1]Підгайчики!M86+[1]Гвіздець!M86+[1]Кулачківці!M86 -> 9 | N39: =M39*F39 -> 2272.7115
A40: 85 | B40: Стерильний розчинник / STERILE DILUENT 10x1DOZE VIAL, Batch Z008627, 0,7 мл | C40: №1027 від 04.06.2026 | D40: Z008627 | E40: флакон | F40: 100.0471 | G40: 52 | H40: =G40*F40 -> 5202.4492 | J40: =I40*F40 -> 0 | K40: =G40+I40-M40 -> 43 | L40: =K40*F40 -> 4302.0253 | M40: =[1]Коршів!M87+[1]Отинія!M87+[1]ЛХлібичин!M87+[1]Струпків!M87+[1]Турка!M87+[1]Виноград!M87+[1]Сопів!M87+[1]Княждвір!M87+[1]Печеніжин!M87+[1]центр!M87+[1]Пядики!M87+[1]ВКамянка!M87+[1]Підгайчики!M87+[1]Гвіздець!M87+[1]Кулачківці!M87 -> 9 | N40: =M40*F40 -> 900.4239
A41: 86 | B41: Інактивована поліомієлітна вакцина (ІПВ)/Inactivaled polio vaccine, 10dose vial (IPV-10) with VVM , 5мл | C41: №1026 від 04.06.2026 | D41: 2501002А | E41: флакон | F41: 560.08811 | G41: 4 | H41: =G41*F41 -> 2240.3524 | J41: =I41*F41 -> 0 | K41: =G41+I41-M41 -> 3 | L41: =K41*F41 -> 1680.2643 | M41: =[1]Коршів!M88+[1]Отинія!M88+[1]ЛХлібичин!M88+[1]Струпків!M88+[1]Турка!M88+[1]Виноград!M88+[1]Сопів!M88+[1]Княждвір!M88+[1]Печеніжин!M88+[1]центр!M88+[1]Пядики!M88+[1]ВКамянка!M88+[1]Підгайчики!M88+[1]Гвіздець!M88+[1]Кулачківці!M88 -> 1 | N41: =M41*F41 -> 560.08811
...
